BEGIN:VCALENDAR
VERSION:2.0
CALSCALE:GREGORIAN
PRODID:adamgibbons/ics
METHOD:PUBLISH
X-PUBLISHED-TTL:PT1H
BEGIN:VEVENT
UID:8491@calendari.cc
SUMMARY:XXIV Mostra del Llibre Anarquista de València
DTSTAMP:20260423T053825Z
DTSTART:20260420T170000Z
DTEND:20260426T193000Z
URL:https://calendari.cc/event/xxiv-mostra-del-llibre-anarquista-de-valenci
	a
LOCATION:Múltiples llocs - València / Valencia\, Comunitat Valenciana\, Esp
	aña
STATUS:CONFIRMED
CATEGORIES:anarquisme,benimaclet,cabanyal,ciutat vella,llibres,mislata,pres
	entació,torrefiel,xerrada,XXIV Mostra del Llibre Anarquista
END:VEVENT
BEGIN:VEVENT
UID:9452@calendari.cc
SUMMARY:Dijous de Mostra a la Meme
DTSTAMP:20260423T053825Z
DTSTART:20260423T153000Z
DTEND:20260423T210000Z
URL:https://calendari.cc/event/dijous-de-mostra-a-la-meme
LOCATION:Escola Meme - Calle Poeta Ricard Sanmartí\, 17
STATUS:CONFIRMED
CATEGORIES:anticapitalisme,anticolonialisme,antiracisme,queer,transfeminism
	es,XXIV Mostra del Llibre Anarquista
END:VEVENT
BEGIN:VEVENT
UID:9419@calendari.cc
SUMMARY:Presentació del llibre 'Técnica y tecnología: cómo conversar con un
	 tecnófilo'
DTSTAMP:20260423T053825Z
DTSTART:20260424T160000Z
DTEND:20260424T180000Z
URL:https://calendari.cc/event/presentacio-del-llibre-tecnica-y-tecnologia-
	como-conversar-con-un-tecnofilo
LOCATION:La Mandrágora - C/Mare Vella\, 15 Bajo Izquierda\, 46020
STATUS:CONFIRMED
CATEGORIES:anarquisme,ciutat vella,La Mandrágora,llibres,presentació llibre
	,sobirania tecnològica,tecnologia,XXIV Mostra del Llibre Anarquista
END:VEVENT
BEGIN:VEVENT
UID:8989@calendari.cc
SUMMARY:Exposició: Caravana a fronteres de la UE. Relat de les polítiques m
	igratories europees
DTSTAMP:20260423T053825Z
DTSTART:20260424T183000Z
DTEND:20260426T190000Z
URL:https://calendari.cc/event/exposicio-caravana-a-fronteres-de-la-ue-rela
	t-de-les-politiques-migratories-europees
LOCATION:Casal Falles Populars i Combatives - Carrer de Garcilaso\, 11\, 46
	003\, València
STATUS:CONFIRMED
CATEGORIES:antirracisme,ciutat vella,exposició,XXIV Mostra del Llibre Anarq
	uista
END:VEVENT
BEGIN:VEVENT
UID:9461@calendari.cc
SUMMARY:Traca final de la Mostra
DTSTAMP:20260423T053825Z
DTSTART:20260425T080000Z
DTEND:20260426T190000Z
URL:https://calendari.cc/event/traca-final-de-la-mostra
LOCATION:Plaça del Carme - Plaça del Carme
STATUS:CONFIRMED
CATEGORIES:llibres,XXIV Mostra del Llibre Anarquista
END:VEVENT
BEGIN:VEVENT
UID:9380@calendari.cc
SUMMARY:Concert - Genderlexx + Inkuirsición
DTSTAMP:20260423T053825Z
DTSTART:20260425T190000Z
DTEND:20260425T215500Z
URL:https://calendari.cc/event/concert-genderlexx-inkuirsicion
LOCATION:CSOA CSN - C/ Cadirers 2\, Ciutat Vella
STATUS:CONFIRMED
CATEGORIES:ciutat vella,concert,queer,transfeminismes,XXIV Mostra del Llibr
	e Anarquista
END:VEVENT
BEGIN:VEVENT
UID:8278@calendari.cc
SUMMARY:12-O Tanquem les xarxes colonials
DTSTAMP:20260423T053825Z
DTSTART:20261011T220000Z
DTEND:20261011T220000Z
URL:https://calendari.cc/event/12-o-tanquem-les-xarxes-colonials
LOCATION:online - https:// per tot arreu
STATUS:CONFIRMED
CATEGORIES:anticapitalisme,anticolonialisme,autogestió,descentralització,em
	ancipació digital,fedivers,privacitat digital,programari lliure,XXIV Mostr
	a del Llibre Anarquista
END:VEVENT
END:VCALENDAR
